BEGIN:VCALENDAR
VERSION:2.0
PRODID:-//Date iCal//NONSGML kigkonsult.se iCalcreator 2.20.2//
METHOD:PUBLISH
BEGIN:VTIMEZONE
TZID:America/New_York
BEGIN:STANDARD
DTSTART:20251102T020000
TZOFFSETFROM:-0400
TZOFFSETTO:-0500
TZNAME:EST
END:STANDARD
BEGIN:DAYLIGHT
DTSTART:20260308T020000
TZOFFSETFROM:-0500
TZOFFSETTO:-0400
TZNAME:EDT
END:DAYLIGHT
END:VTIMEZONE
BEGIN:VEVENT
UID:calendar.7528.events_uoft_date.0@www.artsci.utoronto.ca
CREATED:20251103T160131Z
DESCRIPTION:\nWhen and Where: \nThursday, November 27, 2025 7:00 pm to 10
 :00 pm \n The Blind Duck Pub, U of T Mississauga Campus \n 1815 I\ner Cir
  Rd, Mississauga, ON L5L 1C6 \n\nSpeakers \nSteve Engels Chris Young \n
 \nDescription: \nGame on! Step into a night of nostalgia, competition, a
 nd discovery at the U of T Alumni Gaming Night, where the past, present\
 , and future of gaming collide. Enjoy a relaxed evening of pub bites, swa
 g giveaways, and great company.Space is limited; reserve your spot for t
 his exclusive U of T alumni and friends event today. Tickets are $15.Mingl
 e with fellow U of T alumni and play nine classic console style video game
 s from the Syd Bolton Collection, one of the world’s largest video game c
 ollections (housed at UTM), and compete in a big screen high-stakes Super
  Mario Kart time trial for prizes.Hear from Professor Steve Engels, Depar
 tment of Computer Science, Faculty of Arts & Science and Chris Young, He
 ad of Collections and Digital Scholarship, UTM. Learn about gaming progra
 ms at U of T, the University’s role in this global entertainment industry
 , the impact of gaming on our daily lives, and their influence on pop cu
 lture.In addition to the classic console games below, guests will also ha
 ve an opportunity to play and learn about Venba, an award-winning U of T 
 alumni-created game.Classic console games:• NES – Duck Hunt • SNES – Stree
 t Fighter II • SNES – Super Mario Kart • Atari VCS – Space Invaders • Vect
 rex – Scramble • Xbox – Halo 2 • PS1 – FIFA World Cup '98 • Sega Genesis –
  NBA Jam • Sega DreamCast – Chu Chu Rocket \n\nContact Information: \n A&S
  Advancement \n\nSponsors \nUniversity of Toronto Mississauga, Faculty of
  Arts & Science, Faculty of Applied Science & Engineering, Ontario Insti
 tute for Studies in Education, Rotman School of Management, Temerty Facu
 lty of Medicine, University of Toronto Scarborough \n1815 I\ner Cir Rd, 
 Mississauga, ON L5L 1C6 \n\nCategories \n Social \n\nAudiences \n Alumni
DTSTART;TZID=America/New_York:20251127T190000
DTEND;TZID=America/New_York:20251127T220000
LAST-MODIFIED:20260415T182536Z
LOCATION:1815 Inner Cir Rd, Mississauga, ON L5L 1C6
SUMMARY:U of T ALUMNI GAMING NIGHT
URL;TYPE=URI:https://www.artsci.utoronto.ca/events/u-t-alumni-gaming-night
END:VEVENT
END:VCALENDAR
