BEGIN:VCALENDAR
VERSION:2.0
PRODID:-//Date iCal//NONSGML kigkonsult.se iCalcreator 2.20.2//
METHOD:PUBLISH
BEGIN:VTIMEZONE
TZID:America/New_York
BEGIN:STANDARD
DTSTART:20251102T020000
TZOFFSETFROM:-0400
TZOFFSETTO:-0500
TZNAME:EST
END:STANDARD
BEGIN:DAYLIGHT
DTSTART:20260308T020000
TZOFFSETFROM:-0500
TZOFFSETTO:-0400
TZNAME:EDT
END:DAYLIGHT
END:VTIMEZONE
BEGIN:VEVENT
UID:calendar.7484.events_uoft_date.0@www.artsci.utoronto.ca
CREATED:20251014T201309Z
DESCRIPTION:\nWhen and Where: \nThursday, November 06, 2025 9:00 am to 4:
 30 pm \n Hart House \n 7 Hart House Cir, Toronto, ON M5S 3H3 \n\nDescrip
 tion: \nThe Toronto Population Network, a new initiative connecting demog
 raphers and population scholars across U of T, is hosting its first event
 . Our mini-conference centers on how to create and sustain a population ce
 ntre at U of T, while asking important questions like why demography matt
 ers and how we can leverage data for population insights. Discussions will
  span population health, housing, migration, fertility, families, agi
 ng, and mortality.If you’re interested in how data can advance your resea
 rch, come get a first look at the Toronto Population Network, meet the t
 eam, and engage with guests from around the world. Faculty, graduate, a
 nd undergraduate researchers are warmly invited to take part in this excit
 ing moment for demography at U of T!A light lunch will be provided.Note: E
 vent details can change. Please visit the unit's website for the latest in
 formation about this event.   \n\nContact Information: \n Department of So
 ciology \n7 Hart House Cir, Toronto, ON M5S 3H3 \n\nCategories \n Worksh
 ops \n\nAudiences \n FacultyGraduate Students
DTSTART;TZID=America/New_York:20251106T090000
DTEND;TZID=America/New_York:20251106T163000
LAST-MODIFIED:20251014T201435Z
LOCATION:7 Hart House Cir, Toronto, ON M5S 3H3
SUMMARY:Toronto Population Network Conference
URL;TYPE=URI:https://www.artsci.utoronto.ca/events/toronto-population-netwo
 rk-conference
END:VEVENT
END:VCALENDAR
