BEGIN:VCALENDAR
VERSION:2.0
PRODID:-//Date iCal//NONSGML kigkonsult.se iCalcreator 2.20.2//
METHOD:PUBLISH
BEGIN:VTIMEZONE
TZID:America/New_York
BEGIN:STANDARD
DTSTART:20231105T020000
TZOFFSETFROM:-0400
TZOFFSETTO:-0500
TZNAME:EST
END:STANDARD
BEGIN:DAYLIGHT
DTSTART:20240310T020000
TZOFFSETFROM:-0500
TZOFFSETTO:-0400
TZNAME:EDT
END:DAYLIGHT
END:VTIMEZONE
BEGIN:VEVENT
UID:calendar.6330.events_uoft_date.0@www.artsci.utoronto.ca
CREATED:20240201T162044Z
DESCRIPTION:\nWhen and Where: \nTuesday, February 27, 2024 6:00 pm to 8:0
 0 pm \n I\nis Town Hall + I\nis Lobby \n I\nis College \n 2 Sussex Ave, T
 oronto, ON, M5S1J5 \n\nSpeakers \nRobert Rotenberg \n\nDescription: \nI
 \nis College launches author-lawyer Robert Rotenberg's (BA ’75 I\nis) newe
 st crime novel, What We Buried, a story about troubled legacies, reveng
 e, and the unbreakable bonds of family, inspired by the Forty Martyrs in
  Gubbio, Italy, during World War II. Note: Event details can change. Ple
 ase visit the unit’s website for the latest information about this event. 
   \n\nContact Information: \n I\nis College \n2 Sussex Ave, Toronto, ON\
 , M5S1J5 \n\nCategories \n Book Launches \n\nAudiences \n AlumniCommunityF
 acultyGraduate StudentsProspective StudentsStaffUndergraduate Students
DTSTART;TZID=America/New_York:20240227T180000
DTEND;TZID=America/New_York:20240227T200000
LAST-MODIFIED:20260401T141805Z
LOCATION:2 Sussex Ave, Toronto, ON, M5S1J5
SUMMARY:Robert Rotenberg's 'What We Buried'
URL;TYPE=URI:https://www.artsci.utoronto.ca/events/robert-rotenbergs-what-w
 e-buried
END:VEVENT
END:VCALENDAR
