BEGIN:VCALENDAR
VERSION:2.0
PRODID:-//Date iCal//NONSGML kigkonsult.se iCalcreator 2.20.2//
METHOD:PUBLISH
BEGIN:VTIMEZONE
TZID:America/New_York
BEGIN:STANDARD
DTSTART:20231105T020000
TZOFFSETFROM:-0400
TZOFFSETTO:-0500
TZNAME:EST
END:STANDARD
BEGIN:DAYLIGHT
DTSTART:20230312T020000
TZOFFSETFROM:-0500
TZOFFSETTO:-0400
RDATE:20240310T020000
TZNAME:EDT
END:DAYLIGHT
END:VTIMEZONE
BEGIN:VEVENT
UID:calendar.5981.events_uoft_date.0@www.artsci.utoronto.ca
CREATED:20230911T204900Z
DESCRIPTION:\nWhen and Where: \nWednesday, October 04, 2023 4:00 pm to 6:
 00 pm \n William Doo Auditorium \n New College III \n 45 Willcocks St, To
 ronto, ON M5S 1C7 \n\nSpeakers \nDr. SA Smythe \n\nDescription: \nThe WGS
  Research Seminar is a forum for interdisciplinary research in feminist an
 d gender studies. Directed at both faculty and graduate students within th
 e WGSI and across the campus as a whole, the seminar’s goal is to foster 
 intellectual engagement with key theoretical, social and political questi
 ons touching on gender and feminism and their many intersections through t
 he presentation of cutting-edge work by leading researchers both within an
 d beyond the University of Toronto. Note: Event details can change. Please
  visit the unit’s website for the latest information about this event.   
 \n\nContact Information: \n Women and Gender Studies Institute (WGSI) \n45
  Willcocks St, Toronto, ON M5S 1C7 \n\nCategories \n Lectures \n\nAudien
 ces \n FacultyGraduate StudentsStaff
DTSTART;TZID=America/New_York:20231004T160000
DTEND;TZID=America/New_York:20231004T180000
LAST-MODIFIED:20231010T182604Z
LOCATION:45 Willcocks St, Toronto, ON M5S 1C7
SUMMARY:WGSI Research Seminar | SA Smythe: Black Mediterranean Freedom Drea
 ms for “Atmospheres and Afterlives”
URL;TYPE=URI:https://www.artsci.utoronto.ca/events/wgsi-research-seminar-sa
 -smythe-black-mediterranean-freedom-dreams-atmospheres-and-afterlives
END:VEVENT
END:VCALENDAR
