BEGIN:VCALENDAR
VERSION:2.0
PRODID:-//Date iCal//NONSGML kigkonsult.se iCalcreator 2.20.2//
METHOD:PUBLISH
BEGIN:VTIMEZONE
TZID:America/New_York
BEGIN:STANDARD
DTSTART:20231105T020000
TZOFFSETFROM:-0400
TZOFFSETTO:-0500
TZNAME:EST
END:STANDARD
BEGIN:DAYLIGHT
DTSTART:20240310T020000
TZOFFSETFROM:-0500
TZOFFSETTO:-0400
TZNAME:EDT
END:DAYLIGHT
END:VTIMEZONE
BEGIN:VEVENT
UID:calendar.5947.events_uoft_date.0@www.artsci.utoronto.ca
CREATED:20230905T174945Z
DESCRIPTION:\nWhen and Where: \nSaturday, October 14, 2023 10:00 am to 6:
 00 pm \n Paul Cadario Conference Centre/Clarke Reading Room \n University 
 College Main Building \n 15 King's College Circle Toronto Ontario M5S 3H7 
 \n\nDescription: \nJoin the volunteer-run UC Books and the University Coll
 ege community at our annual Fall Book Sale where we sell various rare and 
 used books! We will have fixed prices for fiction, biographies, travel,
  cookbooks, philosophy, Greek & Roman, history, politics, religion, 
 math, science and more. We will also have a rare and special books collec
 tion for prices as low as $5.  Note: Event details can change. Please visi
 t the unit’s website for the latest information about this event.   \n\nCo
 ntact Information: \n University College \n15 King's College Circle Toront
 o Ontario M5S 3H7 \n\nCategories \n Book Launches \n\nAudiences \n AlumniC
 ommunityFacultyGraduate StudentsProspective StudentsStaffUndergraduate Stu
 dents
DTSTART;TZID=America/New_York:20231014T100000
DTEND;TZID=America/New_York:20231014T180000
LAST-MODIFIED:20260415T203201Z
LOCATION:15 King's College Circle Toronto Ontario M5S 3H7
SUMMARY:Day Three: University College Fall Book Sale
URL;TYPE=URI:https://www.artsci.utoronto.ca/events/day-three-university-col
 lege-fall-book-sale
END:VEVENT
END:VCALENDAR
